BEGIN:VCALENDAR
VERSION:2.0
PRODID:-//SVP Uri //NONSGML Events //EN
CALSCALE:GREGORIAN
X-WR-CALNAME:SVP Uri
BEGIN:VEVENT
CREATED:20260105T165052Z
UID:12632
DTEND:20260826T210000
DTSTART:20260826T200000
DTSTAMP:20260420T045006Z
LOCATION:Restaurant Alpina\, Unterschächen
DESCRIPTION:
SUMMARY:Parteiversammlung SVP Uri
ORGANIZER:
URL;VALUE=URI:https://www.svpuri.ch/aktuell/termine/parteiversammlung-svp-uri-4/
TRANSP:OPAQUE
END:VEVENT
END:VCALENDAR
